BEGIN:VCALENDAR
VERSION:2.0
PRODID:-//Uruguayan American School - ECPv6.15.20//NONSGML v1.0//EN
CALSCALE:GREGORIAN
METHOD:PUBLISH
X-WR-CALNAME:Uruguayan American School
X-ORIGINAL-URL:https://www.uas.edu.uy
X-WR-CALDESC:Events for Uruguayan American School
REFRESH-INTERVAL;VALUE=DURATION:PT1H
X-Robots-Tag:noindex
X-PUBLISHED-TTL:PT1H
BEGIN:VTIMEZONE
TZID:America/Montevideo
BEGIN:STANDARD
TZOFFSETFROM:-0300
TZOFFSETTO:-0300
TZNAME:-03
DTSTART:20200101T000000
END:STANDARD
END:VTIMEZONE
BEGIN:VEVENT
DTSTART;TZID=America/Montevideo:20211030T090000
DTEND;TZID=America/Montevideo:20211030T120000
DTSTAMP:20260425T123906
CREATED:20211005T182622Z
LAST-MODIFIED:20211005T182622Z
UID:9587-1635584400-1635595200@www.uas.edu.uy
SUMMARY:Elementary Soccer AT UAS
DESCRIPTION:
URL:https://www.uas.edu.uy/calenda/elementary-soccer-at-uas-6/
END:VEVENT
BEGIN:VEVENT
DTSTART;TZID=America/Montevideo:20211026T183000
DTEND;TZID=America/Montevideo:20211026T203000
DTSTAMP:20260425T123906
CREATED:20211005T182456Z
LAST-MODIFIED:20211005T182456Z
UID:9584-1635273000-1635280200@www.uas.edu.uy
SUMMARY:ANNUAL ORDINARY GENERAL ASSEMBLY
DESCRIPTION:
URL:https://www.uas.edu.uy/calenda/annual-ordinary-general-assembly/
END:VEVENT
BEGIN:VEVENT
DTSTART;VALUE=DATE:20211022
DTEND;VALUE=DATE:20211023
DTSTAMP:20260425T123906
CREATED:20211005T182348Z
LAST-MODIFIED:20211005T182348Z
UID:9581-1634860800-1634947199@www.uas.edu.uy
SUMMARY:MS Fieldtrip to Piriápolis
DESCRIPTION:
URL:https://www.uas.edu.uy/calenda/ms-fieldtrip-to-piriapolis/
END:VEVENT
BEGIN:VEVENT
DTSTART;VALUE=DATE:20211022
DTEND;VALUE=DATE:20211023
DTSTAMP:20260425T123906
CREATED:20211005T182300Z
LAST-MODIFIED:20211005T182300Z
UID:9579-1634860800-1634947199@www.uas.edu.uy
SUMMARY:ES Parent Teacher Conferences
DESCRIPTION:
URL:https://www.uas.edu.uy/calenda/es-parent-teacher-conferences-3/
END:VEVENT
BEGIN:VEVENT
DTSTART;TZID=America/Montevideo:20211016T090000
DTEND;TZID=America/Montevideo:20211016T120000
DTSTAMP:20260425T123906
CREATED:20211005T182146Z
LAST-MODIFIED:20211005T182146Z
UID:9576-1634374800-1634385600@www.uas.edu.uy
SUMMARY:Elementary Soccer at UAS
DESCRIPTION:
URL:https://www.uas.edu.uy/calenda/elementary-soccer-at-uas-5/
END:VEVENT
BEGIN:VEVENT
DTSTART;TZID=America/Montevideo:20211015T113000
DTEND;TZID=America/Montevideo:20211015T154500
DTSTAMP:20260425T123906
CREATED:20211005T182050Z
LAST-MODIFIED:20211005T182050Z
UID:9573-1634297400-1634312700@www.uas.edu.uy
SUMMARY:1/2 Day SECONDARY Parent Teacher Conferences A Day
DESCRIPTION:
URL:https://www.uas.edu.uy/calenda/1-2-day-secondary-parent-teacher-conferences-a-day/
END:VEVENT
BEGIN:VEVENT
DTSTART;TZID=America/Montevideo:20211014T113000
DTEND;TZID=America/Montevideo:20211014T154500
DTSTAMP:20260425T123906
CREATED:20211005T181807Z
LAST-MODIFIED:20211005T181807Z
UID:9569-1634211000-1634226300@www.uas.edu.uy
SUMMARY:1/2 Day SECONDARY Parent Teacher Conferences B Day
DESCRIPTION:
URL:https://www.uas.edu.uy/calenda/1-2-day-secondary-parent-teacher-conferences-b-day/
END:VEVENT
BEGIN:VEVENT
DTSTART;TZID=America/Montevideo:20211013T080000
DTEND;TZID=America/Montevideo:20211013T113000
DTSTAMP:20260425T123906
CREATED:20211005T181445Z
LAST-MODIFIED:20211005T181705Z
UID:9566-1634112000-1634124600@www.uas.edu.uy
SUMMARY:PSAT Date 2021
DESCRIPTION:
URL:https://www.uas.edu.uy/calenda/psat-date-2021/
END:VEVENT
BEGIN:VEVENT
DTSTART;VALUE=DATE:20211012
DTEND;VALUE=DATE:20211013
DTSTAMP:20260425T123906
CREATED:20211005T181359Z
LAST-MODIFIED:20211005T181359Z
UID:9563-1633996800-1634083199@www.uas.edu.uy
SUMMARY:TEACHER TRAINING DAY
DESCRIPTION:
URL:https://www.uas.edu.uy/calenda/teacher-training-day/
END:VEVENT
BEGIN:VEVENT
DTSTART;VALUE=DATE:20211011
DTEND;VALUE=DATE:20211012
DTSTAMP:20260425T123906
CREATED:20211005T181309Z
LAST-MODIFIED:20211005T181309Z
UID:9560-1633910400-1633996799@www.uas.edu.uy
SUMMARY:DESCUBRIMIENTO DE AMÉRICA - HOLIDAY
DESCRIPTION:
URL:https://www.uas.edu.uy/calenda/descubrimiento-de-america-holiday/
END:VEVENT
BEGIN:VEVENT
DTSTART;TZID=America/Montevideo:20211009T090000
DTEND;TZID=America/Montevideo:20211009T120000
DTSTAMP:20260425T123906
CREATED:20211005T180358Z
LAST-MODIFIED:20211005T180358Z
UID:9550-1633770000-1633780800@www.uas.edu.uy
SUMMARY:ELEMENTARY SOCCER AT UAS
DESCRIPTION:
URL:https://www.uas.edu.uy/calenda/elementary-soccer-at-uas-4/
END:VEVENT
BEGIN:VEVENT
DTSTART;TZID=America/Montevideo:20211008T080000
DTEND;TZID=America/Montevideo:20211010T170000
DTSTAMP:20260425T123906
CREATED:20211005T180302Z
LAST-MODIFIED:20211005T180302Z
UID:9547-1633680000-1633885200@www.uas.edu.uy
SUMMARY:9th and 10th grades Fieldtrip to Salto del Penitente
DESCRIPTION:
URL:https://www.uas.edu.uy/calenda/9th-and-10th-grades-fieldtrip-to-salto-del-penitente/
END:VEVENT
BEGIN:VEVENT
DTSTART;TZID=America/Montevideo:20211006T170000
DTEND;TZID=America/Montevideo:20211006T190000
DTSTAMP:20260425T123906
CREATED:20211005T181013Z
LAST-MODIFIED:20211005T181013Z
UID:9555-1633539600-1633546800@www.uas.edu.uy
SUMMARY:MS Boys Soccer vs St. Brendan's AT St. Brendan's
DESCRIPTION:
URL:https://www.uas.edu.uy/calenda/ms-boys-soccer-vs-st-brendans-at-st-brendans-2/
END:VEVENT
BEGIN:VEVENT
DTSTART;VALUE=DATE:20211005
DTEND;VALUE=DATE:20211006
DTSTAMP:20260425T123906
CREATED:20211005T180228Z
LAST-MODIFIED:20211005T180228Z
UID:9544-1633392000-1633478399@www.uas.edu.uy
SUMMARY:TEACHER APPRECIATION DAY
DESCRIPTION:
URL:https://www.uas.edu.uy/calenda/teacher-appreciation-day-3/
END:VEVENT
BEGIN:VEVENT
DTSTART;TZID=America/Montevideo:20211002T090000
DTEND;TZID=America/Montevideo:20211002T120000
DTSTAMP:20260425T123906
CREATED:20210902T180225Z
LAST-MODIFIED:20210902T180225Z
UID:9407-1633165200-1633176000@www.uas.edu.uy
SUMMARY:Elementary Soccer at UAS
DESCRIPTION:
URL:https://www.uas.edu.uy/calenda/elementary-soccer-at-uas-3/
END:VEVENT
BEGIN:VEVENT
DTSTART;VALUE=DATE:20211001
DTEND;VALUE=DATE:20211002
DTSTAMP:20260425T123906
CREATED:20210902T180149Z
LAST-MODIFIED:20210902T180149Z
UID:9404-1633046400-1633132799@www.uas.edu.uy
SUMMARY:11th grade Fieldtrip to Salto del Penitente
DESCRIPTION:
URL:https://www.uas.edu.uy/calenda/11th-grade-fieldtrip-to-salto-del-penitente/
END:VEVENT
BEGIN:VEVENT
DTSTART;TZID=America/Montevideo:20210925T090000
DTEND;TZID=America/Montevideo:20210925T120000
DTSTAMP:20260425T123906
CREATED:20210902T180029Z
LAST-MODIFIED:20210902T180029Z
UID:9401-1632560400-1632571200@www.uas.edu.uy
SUMMARY:Elementary Soccer at UAS
DESCRIPTION:
URL:https://www.uas.edu.uy/calenda/elementary-soccer-at-uas-2/
END:VEVENT
BEGIN:VEVENT
DTSTART;VALUE=DATE:20210925
DTEND;VALUE=DATE:20210926
DTSTAMP:20260425T123906
CREATED:20210902T175951Z
LAST-MODIFIED:20210902T175951Z
UID:9398-1632528000-1632614399@www.uas.edu.uy
SUMMARY:MS Boys Basketball vs ISASA at UAS
DESCRIPTION:
URL:https://www.uas.edu.uy/calenda/ms-boys-basketball-vs-isasa-at-uas/
END:VEVENT
BEGIN:VEVENT
DTSTART;VALUE=DATE:20210925
DTEND;VALUE=DATE:20210926
DTSTAMP:20260425T123906
CREATED:20210902T175916Z
LAST-MODIFIED:20210902T175916Z
UID:9395-1632528000-1632614399@www.uas.edu.uy
SUMMARY:HS Boys Basketball vs ISASA at UAS
DESCRIPTION:
URL:https://www.uas.edu.uy/calenda/hs-boys-basketball-vs-isasa-at-uas/
END:VEVENT
BEGIN:VEVENT
DTSTART;TZID=America/Montevideo:20210923T190000
DTEND;TZID=America/Montevideo:20210923T210000
DTSTAMP:20260425T123906
CREATED:20210902T170412Z
LAST-MODIFIED:20210902T170412Z
UID:9391-1632423600-1632430800@www.uas.edu.uy
SUMMARY:WINE AND CHEESE
DESCRIPTION:
URL:https://www.uas.edu.uy/calenda/wine-and-cheese/
END:VEVENT
BEGIN:VEVENT
DTSTART;VALUE=DATE:20210923
DTEND;VALUE=DATE:20210924
DTSTAMP:20260425T123906
CREATED:20210902T170340Z
LAST-MODIFIED:20210902T170340Z
UID:9388-1632355200-1632441599@www.uas.edu.uy
SUMMARY:JURA DE LA BANDERA
DESCRIPTION:
URL:https://www.uas.edu.uy/calenda/jura-de-la-bandera-2/
END:VEVENT
BEGIN:VEVENT
DTSTART;VALUE=DATE:20210920
DTEND;VALUE=DATE:20210922
DTSTAMP:20260425T123906
CREATED:20210902T170311Z
LAST-MODIFIED:20210902T170311Z
UID:9385-1632096000-1632268799@www.uas.edu.uy
SUMMARY:SPRING BREAK
DESCRIPTION:
URL:https://www.uas.edu.uy/calenda/spring-break-4/
END:VEVENT
BEGIN:VEVENT
DTSTART;VALUE=DATE:20210917
DTEND;VALUE=DATE:20210918
DTSTAMP:20260425T123906
CREATED:20210902T170108Z
LAST-MODIFIED:20210902T170108Z
UID:9379-1631836800-1631923199@www.uas.edu.uy
SUMMARY:12th grade Fieldtrip to Salto del Penitente
DESCRIPTION:
URL:https://www.uas.edu.uy/calenda/12th-grade-fieldtrip-to-salto-del-penitente/
END:VEVENT
BEGIN:VEVENT
DTSTART;TZID=America/Montevideo:20210916T090000
DTEND;TZID=America/Montevideo:20210916T094500
DTSTAMP:20260425T123906
CREATED:20210902T170153Z
LAST-MODIFIED:20210902T170153Z
UID:9382-1631782800-1631785500@www.uas.edu.uy
SUMMARY:Parent Support Group (PSG) Introductory Mtg (Virtual)
DESCRIPTION:
URL:https://www.uas.edu.uy/calenda/parent-support-group-psg-introductory-mtg-virtual/
END:VEVENT
BEGIN:VEVENT
DTSTART;TZID=America/Montevideo:20210915T183000
DTEND;TZID=America/Montevideo:20210915T200000
DTSTAMP:20260425T123906
CREATED:20210902T170040Z
LAST-MODIFIED:20210902T170040Z
UID:9376-1631730600-1631736000@www.uas.edu.uy
SUMMARY:BOARD ORIENTATION SESSION FOR NEW CANDIDATES
DESCRIPTION:
URL:https://www.uas.edu.uy/calenda/board-orientation-session-for-new-candidates/
END:VEVENT
BEGIN:VEVENT
DTSTART;TZID=America/Montevideo:20210911T170000
DTEND;TZID=America/Montevideo:20210911T193000
DTSTAMP:20260425T123906
CREATED:20210902T165934Z
LAST-MODIFIED:20210902T165934Z
UID:9373-1631379600-1631388600@www.uas.edu.uy
SUMMARY:MS Boys Basketball vs Seminario at UAS
DESCRIPTION:
URL:https://www.uas.edu.uy/calenda/ms-boys-basketball-vs-seminario-at-uas/
END:VEVENT
BEGIN:VEVENT
DTSTART;TZID=America/Montevideo:20210911T153000
DTEND;TZID=America/Montevideo:20210911T170000
DTSTAMP:20260425T123906
CREATED:20210902T165854Z
LAST-MODIFIED:20210902T165854Z
UID:9370-1631374200-1631379600@www.uas.edu.uy
SUMMARY:HS Boys Basketball vs Seminario at UAS
DESCRIPTION:
URL:https://www.uas.edu.uy/calenda/hs-boys-basketball-vs-seminario-at-uas/
END:VEVENT
BEGIN:VEVENT
DTSTART;TZID=America/Montevideo:20210911T090000
DTEND;TZID=America/Montevideo:20210911T120000
DTSTAMP:20260425T123906
CREATED:20210902T165810Z
LAST-MODIFIED:20210902T165810Z
UID:9367-1631350800-1631361600@www.uas.edu.uy
SUMMARY:Elementary Soccer at UAS
DESCRIPTION:
URL:https://www.uas.edu.uy/calenda/elementary-soccer-at-uas/
END:VEVENT
BEGIN:VEVENT
DTSTART;TZID=America/Montevideo:20210908T173000
DTEND;TZID=America/Montevideo:20210908T190000
DTSTAMP:20260425T123906
CREATED:20210902T165653Z
LAST-MODIFIED:20210902T165653Z
UID:9364-1631122200-1631127600@www.uas.edu.uy
SUMMARY:MS Boys Soccer vs St. Brendan's at St. Brendan's
DESCRIPTION:
URL:https://www.uas.edu.uy/calenda/ms-boys-soccer-vs-st-brendans-at-st-brendans/
END:VEVENT
BEGIN:VEVENT
DTSTART;TZID=America/Montevideo:20210907T090000
DTEND;TZID=America/Montevideo:20210907T094500
DTSTAMP:20260425T123906
CREATED:20210902T165501Z
LAST-MODIFIED:20210902T165501Z
UID:9361-1631005200-1631007900@www.uas.edu.uy
SUMMARY:SLL Mtg with Ps
DESCRIPTION:
URL:https://www.uas.edu.uy/calenda/sll-mtg-with-ps/
END:VEVENT
END:VCALENDAR