BEGIN:VCALENDAR
VERSION:2.0
PRODID:-//Uruguayan American School - ECPv6.15.20//NONSGML v1.0//EN
CALSCALE:GREGORIAN
METHOD:PUBLISH
X-WR-CALNAME:Uruguayan American School
X-ORIGINAL-URL:https://www.uas.edu.uy
X-WR-CALDESC:Events for Uruguayan American School
REFRESH-INTERVAL;VALUE=DURATION:PT1H
X-Robots-Tag:noindex
X-PUBLISHED-TTL:PT1H
BEGIN:VTIMEZONE
TZID:America/Montevideo
BEGIN:STANDARD
TZOFFSETFROM:-0300
TZOFFSETTO:-0300
TZNAME:-03
DTSTART:20170101T000000
END:STANDARD
END:VTIMEZONE
BEGIN:VEVENT
DTSTART;TZID=America/Montevideo:20181203T073000
DTEND;TZID=America/Montevideo:20181203T090000
DTSTAMP:20260425T194146
CREATED:20181024T140050Z
LAST-MODIFIED:20181024T140050Z
UID:3768-1543822200-1543827600@www.uas.edu.uy
SUMMARY:G 5 Planetarium Presentation
DESCRIPTION:
URL:https://www.uas.edu.uy/calenda/g-5-planetarium-presentation/
LOCATION:Uruguayan American School\, Uruguay
END:VEVENT
BEGIN:VEVENT
DTSTART;VALUE=DATE:20181129
DTEND;VALUE=DATE:20181203
DTSTAMP:20260425T194146
CREATED:20181024T135909Z
LAST-MODIFIED:20181024T135909Z
UID:3765-1543449600-1543795199@www.uas.edu.uy
SUMMARY:SAAC Swimming
DESCRIPTION:Subject to confirmation: Perú or Chile
URL:https://www.uas.edu.uy/calenda/saac-swimming/
LOCATION:Montevideo
END:VEVENT
BEGIN:VEVENT
DTSTART;TZID=America/Montevideo:20181128T141500
DTEND;TZID=America/Montevideo:20181128T151500
DTSTAMP:20260425T194146
CREATED:20181024T135420Z
LAST-MODIFIED:20181024T135533Z
UID:3762-1543414500-1543418100@www.uas.edu.uy
SUMMARY:G3 Drama Performance
DESCRIPTION:Music and PE Open Classes
URL:https://www.uas.edu.uy/calenda/g3-drama-performance/
LOCATION:Montevideo
END:VEVENT
BEGIN:VEVENT
DTSTART;VALUE=DATE:20181124
DTEND;VALUE=DATE:20181126
DTSTAMP:20260425T194146
CREATED:20181024T135246Z
LAST-MODIFIED:20181024T135246Z
UID:3759-1543017600-1543190399@www.uas.edu.uy
SUMMARY:Basketball 3x3
DESCRIPTION:
URL:https://www.uas.edu.uy/calenda/basketball-3x3/
LOCATION:UAS Gym\, Saldún de Rodríguez\, Montevideo\, Montevideo\, Uruguay
END:VEVENT
BEGIN:VEVENT
DTSTART;VALUE=DATE:20181122
DTEND;VALUE=DATE:20181124
DTSTAMP:20260425T194146
CREATED:20181024T135135Z
LAST-MODIFIED:20181024T135135Z
UID:3756-1542844800-1543017599@www.uas.edu.uy
SUMMARY:Thanksgiving Holidays - No School
DESCRIPTION:
URL:https://www.uas.edu.uy/calenda/thanksgiving-holidays-no-school/
LOCATION:Montevideo
END:VEVENT
BEGIN:VEVENT
DTSTART;TZID=America/Montevideo:20181121T120000
DTEND;TZID=America/Montevideo:20181121T133000
DTSTAMP:20260425T194146
CREATED:20181024T134918Z
LAST-MODIFIED:20181024T134918Z
UID:3750-1542801600-1542807000@www.uas.edu.uy
SUMMARY:THANKSGIVING LUNCH
DESCRIPTION:
URL:https://www.uas.edu.uy/calenda/thanksgiving-lunch/
LOCATION:Uruguayan American School\, Uruguay
END:VEVENT
BEGIN:VEVENT
DTSTART;TZID=America/Montevideo:20181121T070000
DTEND;TZID=America/Montevideo:20181121T080000
DTSTAMP:20260425T194146
CREATED:20181024T135039Z
LAST-MODIFIED:20181024T135039Z
UID:3753-1542783600-1542787200@www.uas.edu.uy
SUMMARY:EC Report Cards Sent Home
DESCRIPTION:
URL:https://www.uas.edu.uy/calenda/ec-report-cards-sent-home/
LOCATION:Uruguayan American School\, Uruguay
END:VEVENT
BEGIN:VEVENT
DTSTART;TZID=America/Montevideo:20181120T080000
DTEND;TZID=America/Montevideo:20181120T090000
DTSTAMP:20260425T194146
CREATED:20181024T134646Z
LAST-MODIFIED:20181024T134646Z
UID:3747-1542700800-1542704400@www.uas.edu.uy
SUMMARY:PSG Meeting - Thanksgiving
DESCRIPTION:
URL:https://www.uas.edu.uy/calenda/psg-meeting-thanksgiving/
LOCATION:Uruguayan American School\, Uruguay
END:VEVENT
BEGIN:VEVENT
DTSTART;VALUE=DATE:20181116
DTEND;VALUE=DATE:20181117
DTSTAMP:20260425T194146
CREATED:20181024T134547Z
LAST-MODIFIED:20181024T134547Z
UID:3744-1542326400-1542412799@www.uas.edu.uy
SUMMARY:G 4 OEE Trip
DESCRIPTION:
URL:https://www.uas.edu.uy/calenda/g-4-oee-trip-2/
LOCATION:Montevideo
END:VEVENT
BEGIN:VEVENT
DTSTART;VALUE=DATE:20181115
DTEND;VALUE=DATE:20181116
DTSTAMP:20260425T194146
CREATED:20181024T134457Z
LAST-MODIFIED:20181024T134457Z
UID:3741-1542240000-1542326399@www.uas.edu.uy
SUMMARY:G 4 OEE Trip
DESCRIPTION:
URL:https://www.uas.edu.uy/calenda/g-4-oee-trip/
LOCATION:Montevideo
END:VEVENT
BEGIN:VEVENT
DTSTART;VALUE=DATE:20181114
DTEND;VALUE=DATE:20181119
DTSTAMP:20260425T194146
CREATED:20181024T134400Z
LAST-MODIFIED:20181024T134400Z
UID:3738-1542153600-1542585599@www.uas.edu.uy
SUMMARY:SAAC SOCCER - Lima\, Perú
DESCRIPTION:
URL:https://www.uas.edu.uy/calenda/saac-soccer-lima-peru/
LOCATION:Montevideo
END:VEVENT
BEGIN:VEVENT
DTSTART;TZID=America/Montevideo:20181113T080000
DTEND;TZID=America/Montevideo:20181113T090000
DTSTAMP:20260425T194146
CREATED:20181024T134216Z
LAST-MODIFIED:20181024T134216Z
UID:3735-1542096000-1542099600@www.uas.edu.uy
SUMMARY:PSG Meeting
DESCRIPTION:
URL:https://www.uas.edu.uy/calenda/psg-meeting/
LOCATION:Uruguayan American School\, Uruguay
END:VEVENT
BEGIN:VEVENT
DTSTART;VALUE=DATE:20181109
DTEND;VALUE=DATE:20181110
DTSTAMP:20260425T194146
CREATED:20181024T134038Z
LAST-MODIFIED:20181024T134038Z
UID:3732-1541721600-1541807999@www.uas.edu.uy
SUMMARY:G 4 Trip to Boya Petrolera José Ignacio
DESCRIPTION:
URL:https://www.uas.edu.uy/calenda/g-4-trip-to-boya-petrolera-jose-ignacio/
LOCATION:Montevideo
END:VEVENT
BEGIN:VEVENT
DTSTART;VALUE=DATE:20181108
DTEND;VALUE=DATE:20181111
DTSTAMP:20260425T194146
CREATED:20181024T133850Z
LAST-MODIFIED:20181024T133850Z
UID:3729-1541635200-1541894399@www.uas.edu.uy
SUMMARY:MS Friendship Games - Buenos Aires
DESCRIPTION:
URL:https://www.uas.edu.uy/calenda/ms-friendship-games-buenos-aires/
LOCATION:Uruguayan American School\, Uruguay
END:VEVENT
BEGIN:VEVENT
DTSTART;VALUE=DATE:20181108
DTEND;VALUE=DATE:20181109
DTSTAMP:20260425T194146
CREATED:20181024T133758Z
LAST-MODIFIED:20181024T133758Z
UID:3726-1541635200-1541721599@www.uas.edu.uy
SUMMARY:Lego Robotics Competition @LATU
DESCRIPTION:
URL:https://www.uas.edu.uy/calenda/lego-robotics-competition-latu-2/
LOCATION:Uruguayan American School\, Uruguay
END:VEVENT
BEGIN:VEVENT
DTSTART;VALUE=DATE:20181107
DTEND;VALUE=DATE:20181108
DTSTAMP:20260425T194146
CREATED:20181024T133712Z
LAST-MODIFIED:20181024T133712Z
UID:3723-1541548800-1541635199@www.uas.edu.uy
SUMMARY:LEGO Robotics Competition @LATU
DESCRIPTION:
URL:https://www.uas.edu.uy/calenda/lego-robotics-competition-latu/
LOCATION:Uruguayan American School\, Uruguay
END:VEVENT
BEGIN:VEVENT
DTSTART;VALUE=DATE:20181105
DTEND;VALUE=DATE:20181106
DTSTAMP:20260425T194146
CREATED:20181024T133616Z
LAST-MODIFIED:20181024T133616Z
UID:3720-1541376000-1541462399@www.uas.edu.uy
SUMMARY:Field Trip Grade 6
DESCRIPTION:SOS Rescate Fauna Marina
URL:https://www.uas.edu.uy/calenda/field-trip-grade-6/
LOCATION:Uruguayan American School\, Uruguay
END:VEVENT
BEGIN:VEVENT
DTSTART;VALUE=DATE:20181102
DTEND;VALUE=DATE:20181103
DTSTAMP:20260425T194146
CREATED:20181024T133507Z
LAST-MODIFIED:20181024T133507Z
UID:3717-1541116800-1541203199@www.uas.edu.uy
SUMMARY:Teacher Training
DESCRIPTION:11:30 AM Dismissal
URL:https://www.uas.edu.uy/calenda/teacher-training-2/
LOCATION:Montevideo
END:VEVENT
BEGIN:VEVENT
DTSTART;VALUE=DATE:20181101
DTEND;VALUE=DATE:20181102
DTSTAMP:20260425T194146
CREATED:20181023T183322Z
LAST-MODIFIED:20181023T183322Z
UID:3686-1541030400-1541116799@www.uas.edu.uy
SUMMARY:Spanish field trip - 9th and 10th grades
DESCRIPTION:
URL:https://www.uas.edu.uy/calenda/spanish-field-trip-9th-and-10th-grades/
LOCATION:Montevideo
END:VEVENT
BEGIN:VEVENT
DTSTART;TZID=America/Montevideo:20181030T154500
DTEND;TZID=America/Montevideo:20181030T164500
DTSTAMP:20260425T194146
CREATED:20181024T133334Z
LAST-MODIFIED:20181024T133334Z
UID:3714-1540914300-1540917900@www.uas.edu.uy
SUMMARY:PSG-ASEC Committee - Thanksgiving
DESCRIPTION:
URL:https://www.uas.edu.uy/calenda/psg-asec-committee-thanksgiving/
LOCATION:Uruguayan American School\, Uruguay
END:VEVENT
BEGIN:VEVENT
DTSTART;VALUE=DATE:20181027
DTEND;VALUE=DATE:20181028
DTSTAMP:20260425T194146
CREATED:20181024T133008Z
LAST-MODIFIED:20181024T133008Z
UID:3711-1540598400-1540684799@www.uas.edu.uy
SUMMARY:ACT Testing
DESCRIPTION:
URL:https://www.uas.edu.uy/calenda/act-testing-4/
LOCATION:Uruguayan American School\, Uruguay
END:VEVENT
BEGIN:VEVENT
DTSTART;TZID=America/Montevideo:20181026T124500
DTEND;TZID=America/Montevideo:20181026T134500
DTSTAMP:20260425T194146
CREATED:20181024T132923Z
LAST-MODIFIED:20181024T132923Z
UID:3708-1540557900-1540561500@www.uas.edu.uy
SUMMARY:UAS vs Lincoln - Boys
DESCRIPTION:
URL:https://www.uas.edu.uy/calenda/uas-vs-lincoln-boys/
LOCATION:UAS Gym\, Saldún de Rodríguez\, Montevideo\, Montevideo\, Uruguay
END:VEVENT
BEGIN:VEVENT
DTSTART;TZID=America/Montevideo:20181026T113000
DTEND;TZID=America/Montevideo:20181026T123000
DTSTAMP:20260425T194146
CREATED:20181024T132659Z
LAST-MODIFIED:20181024T132659Z
UID:3702-1540553400-1540557000@www.uas.edu.uy
SUMMARY:ES Parent/Teacher Meetings
DESCRIPTION:No school for ES
URL:https://www.uas.edu.uy/calenda/es-parent-teacher-meetings-2/
LOCATION:Uruguayan American School\, Uruguay
END:VEVENT
BEGIN:VEVENT
DTSTART;TZID=America/Montevideo:20181026T090000
DTEND;TZID=America/Montevideo:20181026T100000
DTSTAMP:20260425T194146
CREATED:20181024T132805Z
LAST-MODIFIED:20181024T132805Z
UID:3705-1540544400-1540548000@www.uas.edu.uy
SUMMARY:UAS vs ISC - Boys
DESCRIPTION:
URL:https://www.uas.edu.uy/calenda/uas-vs-isc-boys/
LOCATION:UAS Gym\, Saldún de Rodríguez\, Montevideo\, Montevideo\, Uruguay
END:VEVENT
BEGIN:VEVENT
DTSTART;TZID=America/Montevideo:20181025T120000
DTEND;TZID=America/Montevideo:20181025T130000
DTSTAMP:20260425T194146
CREATED:20181024T132243Z
LAST-MODIFIED:20181024T132243Z
UID:3695-1540468800-1540472400@www.uas.edu.uy
SUMMARY:UAS vs NIDO - Girls
DESCRIPTION:
URL:https://www.uas.edu.uy/calenda/uas-vs-nido-girls/
LOCATION:UAS Gym\, Saldún de Rodríguez\, Montevideo\, Montevideo\, Uruguay
END:VEVENT
BEGIN:VEVENT
DTSTART;TZID=America/Montevideo:20181025T113000
DTEND;TZID=America/Montevideo:20181025T123000
DTSTAMP:20260425T194146
CREATED:20181023T183228Z
LAST-MODIFIED:20181024T132429Z
UID:3683-1540467000-1540470600@www.uas.edu.uy
SUMMARY:ES Parent/Teacher Meetings
DESCRIPTION:11:30 dismissal for ES
URL:https://www.uas.edu.uy/calenda/es-parent-teacher-meetings/
LOCATION:Montevideo
END:VEVENT
BEGIN:VEVENT
DTSTART;TZID=America/Montevideo:20181025T081500
DTEND;TZID=America/Montevideo:20181025T204500
DTSTAMP:20260425T194146
CREATED:20181024T131956Z
LAST-MODIFIED:20181024T131956Z
UID:3692-1540455300-1540500300@www.uas.edu.uy
SUMMARY:SAAC VOLLEYBALL Opening Ceremony
DESCRIPTION:
URL:https://www.uas.edu.uy/calenda/saac-volleyball-opening-ceremony/
LOCATION:Montevideo
END:VEVENT
BEGIN:VEVENT
DTSTART;VALUE=DATE:20181024
DTEND;VALUE=DATE:20181029
DTSTAMP:20260425T194146
CREATED:20181023T181220Z
LAST-MODIFIED:20181023T181220Z
UID:3671-1540339200-1540771199@www.uas.edu.uy
SUMMARY:SAAC Volleyball Tournament
DESCRIPTION:
URL:https://www.uas.edu.uy/calenda/saac-volleyball-tournament/
LOCATION:Montevideo
END:VEVENT
BEGIN:VEVENT
DTSTART;TZID=America/Montevideo:20181018T183000
DTEND;TZID=America/Montevideo:20181018T203000
DTSTAMP:20260425T194146
CREATED:20181011T165255Z
LAST-MODIFIED:20181011T165255Z
UID:3608-1539887400-1539894600@www.uas.edu.uy
SUMMARY:General Assembly
DESCRIPTION:
URL:https://www.uas.edu.uy/calenda/general-assembly/
LOCATION:Uruguayan American School\, Uruguay
END:VEVENT
BEGIN:VEVENT
DTSTART;VALUE=DATE:20180920
DTEND;VALUE=DATE:20180922
DTSTAMP:20260425T194146
CREATED:20180807T182833Z
LAST-MODIFIED:20180807T182833Z
UID:3539-1537401600-1537574399@www.uas.edu.uy
SUMMARY:Spring Break
DESCRIPTION:
URL:https://www.uas.edu.uy/calenda/spring-break/
LOCATION:Montevideo
END:VEVENT
END:VCALENDAR