BEGIN:VCALENDAR
VERSION:2.0
PRODID:-//Uruguayan American School - ECPv6.15.20//NONSGML v1.0//EN
CALSCALE:GREGORIAN
METHOD:PUBLISH
X-WR-CALNAME:Uruguayan American School
X-ORIGINAL-URL:https://www.uas.edu.uy
X-WR-CALDESC:Events for Uruguayan American School
REFRESH-INTERVAL;VALUE=DURATION:PT1H
X-Robots-Tag:noindex
X-PUBLISHED-TTL:PT1H
BEGIN:VTIMEZONE
TZID:America/Montevideo
BEGIN:STANDARD
TZOFFSETFROM:-0300
TZOFFSETTO:-0300
TZNAME:-03
DTSTART:20170101T000000
END:STANDARD
END:VTIMEZONE
BEGIN:VEVENT
DTSTART;TZID=America/Montevideo:20180323T000000
DTEND;TZID=America/Montevideo:20180324T000000
DTSTAMP:20260425T213536
CREATED:20180216T035735Z
LAST-MODIFIED:20180216T035735Z
UID:2624-1521763200-1521849600@www.uas.edu.uy
SUMMARY:ES Book Character Parade
DESCRIPTION:UAS During-School Events
URL:https://www.uas.edu.uy/calenda/es-book-character-parade/
END:VEVENT
BEGIN:VEVENT
DTSTART;TZID=America/Montevideo:20180319T000000
DTEND;TZID=America/Montevideo:20180324T000000
DTSTAMP:20260425T213536
CREATED:20180216T035734Z
LAST-MODIFIED:20180216T035734Z
UID:2622-1521417600-1521849600@www.uas.edu.uy
SUMMARY:Book Week
DESCRIPTION:UAS During-School Events
URL:https://www.uas.edu.uy/calenda/book-week/
END:VEVENT
BEGIN:VEVENT
DTSTART;TZID=America/Montevideo:20180310T000000
DTEND;TZID=America/Montevideo:20180311T000000
DTSTAMP:20260425T213536
CREATED:20180216T035734Z
LAST-MODIFIED:20180216T035734Z
UID:2621-1520640000-1520726400@www.uas.edu.uy
SUMMARY:SAT & SAT with Essay
DESCRIPTION:UAS After School Events
URL:https://www.uas.edu.uy/calenda/sat-sat-with-essay/
END:VEVENT
BEGIN:VEVENT
DTSTART;TZID=America/Montevideo:20180222T000000
DTEND;TZID=America/Montevideo:20180225T000000
DTSTAMP:20260425T213536
CREATED:20180216T035734Z
LAST-MODIFIED:20180216T035734Z
UID:2620-1519257600-1519516800@www.uas.edu.uy
SUMMARY:Middle School Trip - Artigas
DESCRIPTION:UAS After School Events
URL:https://www.uas.edu.uy/calenda/middle-school-trip-artigas/
END:VEVENT
BEGIN:VEVENT
DTSTART;TZID=America/Montevideo:20180219T000000
DTEND;TZID=America/Montevideo:20180224T000000
DTSTAMP:20260425T213536
CREATED:20180216T035730Z
LAST-MODIFIED:20180216T035730Z
UID:2619-1518998400-1519430400@www.uas.edu.uy
SUMMARY:ES Math MAP Test
DESCRIPTION:UAS During-School Events
URL:https://www.uas.edu.uy/calenda/es-math-map-test/
END:VEVENT
BEGIN:VEVENT
DTSTART;TZID=America/Montevideo:20180212T000000
DTEND;TZID=America/Montevideo:20180214T000000
DTSTAMP:20260425T213536
CREATED:20180216T035730Z
LAST-MODIFIED:20180216T035730Z
UID:2618-1518393600-1518566400@www.uas.edu.uy
SUMMARY:Carnival
DESCRIPTION:UAS Breaks
URL:https://www.uas.edu.uy/calenda/carnival/
END:VEVENT
BEGIN:VEVENT
DTSTART;TZID=America/Montevideo:20180205T000000
DTEND;TZID=America/Montevideo:20180206T000000
DTSTAMP:20260425T213536
CREATED:20180216T035730Z
LAST-MODIFIED:20180216T035730Z
UID:2617-1517788800-1517875200@www.uas.edu.uy
SUMMARY:First Day of School
DESCRIPTION:UAS Start-Stop dates
URL:https://www.uas.edu.uy/calenda/first-day-of-school/
END:VEVENT
BEGIN:VEVENT
DTSTART;TZID=America/Montevideo:20180201T000000
DTEND;TZID=America/Montevideo:20180203T000000
DTSTAMP:20260425T213536
CREATED:20180216T035730Z
LAST-MODIFIED:20180216T035730Z
UID:2616-1517443200-1517616000@www.uas.edu.uy
SUMMARY:Teacher In-Service
DESCRIPTION:UAS Teacher only days
URL:https://www.uas.edu.uy/calenda/teacher-in-service/
END:VEVENT
BEGIN:VEVENT
DTSTART;TZID=America/Montevideo:20180101T000000
DTEND;TZID=America/Montevideo:20180102T000000
DTSTAMP:20260425T213536
CREATED:20180216T035729Z
LAST-MODIFIED:20180216T035729Z
UID:2615-1514764800-1514851200@www.uas.edu.uy
SUMMARY:Año Nuevo
DESCRIPTION:Festivos en Uruguay
URL:https://www.uas.edu.uy/calenda/ano-nuevo/
END:VEVENT
END:VCALENDAR